BEGIN:VCALENDAR
VERSION:2.0
PRODID:-//Réseau des GASAP / Netwerk van SAGAL - ECPv6.15.20//NONSGML v1.0//EN
CALSCALE:GREGORIAN
METHOD:PUBLISH
X-ORIGINAL-URL:https://gasap.be
X-WR-CALDESC:Évènements pour Réseau des GASAP / Netwerk van SAGAL
REFRESH-INTERVAL;VALUE=DURATION:PT1H
X-Robots-Tag:noindex
X-PUBLISHED-TTL:PT1H
BEGIN:VTIMEZONE
TZID:UTC
BEGIN:STANDARD
TZOFFSETFROM:+0000
TZOFFSETTO:+0000
TZNAME:UTC
DTSTART:20250101T000000
END:STANDARD
END:VTIMEZONE
BEGIN:VEVENT
DTSTART;TZID=UTC:20260421T190000
DTEND;TZID=UTC:20260421T212000
DTSTAMP:20260419T180403
CREATED:20260413T160524Z
LAST-MODIFIED:20260413T194950Z
UID:14747-1776798000-1776806400@gasap.be
SUMMARY:Ciné-Débat - Projection du film "Agatha's Almanac"\, prix du public du Festival AlimenTerre 2026
DESCRIPTION:Dans le cadre de la 6ème édition du festival Nourrir Bruxelles – festival de la transition alimentaire\, écologique et sociale – qui se déroulera du 15 au 26 avril prochain\, un ciné-débat est organisé autour du film « Agatha’s Almanac ». Ce long métrage a remporté le prix du public du Festival AlimenTerre 2026. \n\n\n\nAgatha’s Almanac – 2025 – Amalie Atkins – 1h27Défiant la modernité\, Agatha\, 90 ans\, mène une existence solitaire sur la ferme de ses ancêtres en conservant des semences ancestrales. Un film d’un monde en voie de disparition\, qui nous plonge dans un univers fait à la main. \n\n\n\n\n\n\n\nAgatha’s Almanac\nFemme indépendante à la vivacité fascinante\, à 90 ans\, Agatha Bock continue d’entretenir sa terre avec soin\, ardeur et savoir. Adepte du DIY depuis des décennies\, elle se révèle rapidement aussi attachante que mémorable. Qu’elle soit à l’ouvrage dans son luxuriant jardin ou à l’intérieur de la maison centenaire entourée de multiples objets bien classés et identifiés de son écriture à la main\, elle partage anecdotes\, réflexions sur la vie et informations sur l’agriculture et sur la conservation ou transformation d’aliments. Sous la réalisation inventive de sa nièce cinéaste Amalie Atkins\, cet univers unique et coloré est lumineusement filmé en 16 mm couleur. \n\n\n\n\nDébat sur les dynamiques de genre dans l’agriculture\nMené par Dounia Largo et modéré par Antonia Beckers\, ce débat portera notamment sur les dynamiques de genre dans l’agriculture\, avec une approche féministe. Un parallèle sera fait entre la situation de la protagoniste du documentaire et la situation des agricultrices en Wallonie. Mettant en avant les freins structurels et les conditions matérielles des agricultrices en Belgique aujourd’hui. \n\n\n\nDounia Largo termine sa thèse de doctorat au sein du Laboratoire d’Anthropologie des Mondes Contemporains. Sa recherche – intitulée « Rapports de genre\, travail productif et émancipation féminine : les travailleuses des coopératives d’huile d’argan de l’Ouest du Maroc » – ambitionne de mettre en lumière l’éventuel impact\, ainsi que les différentes valeurs\, des coopératives d’huile d’argan sur les vies des femmes rurales marocaines. \n\n\n\nElle s’intéresse à des thèmes tels que : l’agriculture solidaire ; le commerce équitable ; ou encore\, la division sexuée du travail. Toutefois\, l’angle central de sa recherche\, celui qui guide sa réflexion\, est celui de l’empowerment et de l’émancipation. Elle cherche en effet à comprendre et à évaluer comment le développement de systèmes structurés en coopératives a contribué\, ou non\, à émanciper les femmes\, et si oui\, sous quels aspects (économiques\, sociaux\, familiaux\, etc.).
URL:https://gasap.be/evenement/cine-debat-projection-du-film-agathas-almanac-prix-du-public-du-festival-alimenterre-2026/
LOCATION:Cinéma Aventure\, Rue des Fripiers\, 15\, 1000 Bruxelles\, 1000\, Belgium
CATEGORIES:événement grand public,partenaire du réseau
ATTACH;FMTTYPE=image/webp:https://gasap.be/wp-content/uploads/2026/04/AA-Poster-web-Agatha-s-Almanac.webp
END:VEVENT
BEGIN:VEVENT
DTSTART;TZID=UTC:20260424T190000
DTEND;TZID=UTC:20260426T220000
DTSTAMP:20260419T180403
CREATED:20260402T132850Z
LAST-MODIFIED:20260407T144423Z
UID:14046-1777057200-1777240800@gasap.be
SUMMARY:LIVE Caritatif : Alimen'Ta Life !
DESCRIPTION:Dans le cadre des festivals Nourrir Bruxelles et Les 48h de l’Agriculture Urbaine\, un groupe de créateur.ice.s de contenus organise un événement caritatif en faveur du Réseau des GASAP sur le thème de l’alimentation durable\, accessible et locale. \n\n\n\n\nTémoignage d’une streameuse : \n\n\n\n« Il est important que l’alimentation reste accessible à toutes et tous et que chaque acteur·ice de l’alimentation soit rémunérée de façon juste pour son travail. Il est primordial que tout le monde puisse bénéficier d’une alimentation locale et de qualité\, pour ça il faut rendre cela accessible financièrement\, mais pas seulement. Aujourd’hui\, nous sommes de plus en plus éloigné.es des personnes qui nous alimentent\, produisent et fabriquent ce qui nous nourrit. Comprendre et apprendre à connaître les acteurices qui nous nourrissent signifie comprendre ce que l’on consomme. » \n\n\n\n\n–JOURS–HEURES–MINUTES–SECONDS\n\n\n\nRejoignez-nous entre le vendredi 24 avril 19h et la soirée du dimanche 26 avril : l’évènement est accessible depuis la plateforme de vidéos et réseau social Twitch sous le nom “Alimen’Ta Life”. \n\n\n\nProgramme\n\n\n\nVendredi 24 Avril\n\n\n\n19h: Soirée de lancement et présentation de l’événement20h: Débat sur l’alimentation et l’agroécologie21h30: Soirée jeux multi & discussions \n\n\n\n— Différents streams en parallèle pendant la soirée — \n\n\n\nSamedi 25 Avril\n\n\n\n10h30-13h: Live atelier cuisine & discussions17h-18h: Interview avec la Chargée de Projet SSA du Réseau des GASAP (P.A.N.I.E.R.S.)20h: Soirée Quizz Spécial sur l’alimentation avec les streamers de l’événement \n\n\n\n— Différents streams en parallèle pendant la journée et la soirée — \n\n\n\nDimanche 26 Avril\n\n\n\n10h30-13h: Live atelier cuisine & discussions19h: Clôture\, retour sur les moments forts & remerciements \n\n\n\n— Différents streams en parallèle pendant toute la journée — \n\n\n\n\n\n\n\n\névènement Facebook\n\n\n\nSuivre en Direct\n\n\n\nCampagne de dons
URL:https://gasap.be/evenement/live-caritatif-alimenta-life/
CATEGORIES:événement grand public
ATTACH;FMTTYPE=image/png:https://gasap.be/wp-content/uploads/2026/04/Event-LIVE-Caritatif-du-24-26-avril-2.png
END:VEVENT
END:VCALENDAR